BEGIN:VCALENDAR
VERSION:2.0
PRODID:Evento - TEC
BEGIN:VEVENT
UID:98926
DTSTAMP:20260424T030237Z
DTSTART:20210503T140000Z
DTEND:20210516T145900Z
SUMMARY: Borregos Esports Challenge 2021
LOCATION:
DESCRIPTION:<p>El torneo <strong>Borregos Esports Challenge 2021 </strong>ha llegado. ¡Vive tu pasión y gana alguno de los premios a los primeros lugares en <strong>Rocket League, FIFA 21 o Madden NFL 21.</strong></p>

<p>&nbsp;</p>

<p><strong>Torneos:</strong></p>

<p><strong>- Alumnos del Tec y jugadores externos de 13 a 25 años</strong></p>

<ul>
	<li>FIFA 21 en Xbox One y Xbox Series S/X</li>
	<li>Madden NFL 21 en Xbox One y Xbox Series S/X</li>
	<li>Rocket League en Multiplataforma (Xbox One y Series X/S, PS4, Switch y Pc)</li>
</ul>

<p>&nbsp;</p>

<p><strong>- EXATEC&nbsp;</strong></p>

<ul>
	<li>Rocket League en Multiplataforma (Xbox One y Series X/S, PS4, Switch y Pc)</li>
</ul>

<p>&nbsp;</p>

<p><strong>- Colaboradores Tec (junto a familiar directo)</strong></p>

<ul>
	<li>FIFA 21 en Xbox One y Xbox Series S/X (torneo en modalidad de parejas)</li>
</ul>

<p>&nbsp;</p>

<p><a href="https://qualy.gg/landing/borregos-esports">Regístrate aquí para participar</a></p>

<p>&nbsp;</p>

<p>&nbsp;</p>

END:VEVENT
END:VCALENDAR