BEGIN:VCALENDAR
VERSION:2.0
PRODID:Evento - TEC
BEGIN:VEVENT
UID:98566
DTSTAMP:20260424T030241Z
DTSTART:20210427T030000Z
DTEND:20210528T145959Z
SUMMARY:Participa en estudio GUESSS y entra al sorteo para INCmty y TREP Camp
LOCATION:
DESCRIPTION:<p>Esta iniciativa forma parte de la <strong>GUESSS </strong>(Encuesta Global de la Universidad del Espíritu Empresarial de Estudiantes, por sus siglas en inglés)&nbsp;que ha estudiado a más de <strong>3 mil universidades</strong> en <strong>54 países.</strong></p>

<p>Si eres emprendedor contesta este&nbsp;cuestionario de GUESSS para <strong>ganar una de las 200 cortesías</strong> para <a href="https://www.incmty.com/">INCmty </a>o de las <strong>50 becas</strong> para <a href="https://www.trepcamp.org/">TREP Camp</a>, el programa de emprendimiento de Santander Universidades.</p>

<p>Puedes encontrar el cuestionario en la siguiente liga:</p>

<div data-oembed-url="https://tinyurl.com/g21-mexico">
<div class="iframely-embed">
<div class="iframely-responsive"><a data-iframely-url="//cdn.iframe.ly/api/iframe?url=https%3A%2F%2Ftinyurl.com%2Fg21-mexico&amp;amp;key=2115874014725aecd6576cf70e806db0" href="https://stgallen.co1.qualtrics.com/jfe/form/SV_3pW3J6NHjqpmQ17?Q_Language=ES-MX">GUESSS</a></div>
</div>
</div>

<p>&nbsp;</p>

END:VEVENT
END:VCALENDAR