BEGIN:VCALENDAR
VERSION:2.0
PRODID:Evento - TEC
BEGIN:VEVENT
UID:97611
DTSTAMP:20260423T234743Z
DTSTART:20210412T150000Z
DTEND:20210416T145900Z
SUMMARY:EmpleaTec | Feria virtual de empleo
LOCATION:
DESCRIPTION:<div class="text-long">
<p>Te invitamos al <strong>evento de conexión laboral más importante</strong> del Tec de Monterrey, #EmpleaTec, con la participación de más de 100 empresas y organizaciones que ofrecerán diversas oportunidades de desempeño profesional para ti. ¡La plataforma estará abierta las <strong>veinticuatro horas del día durante los cinco días del evento!</strong></p>

<h3><a href="http://empleatec21.com/"><span>Haz clic aquí para registrarte.</span></a></h3>

<p><strong>Recuerda ingresar <span>con tu correo @exatec.tec.mx.</span> Si aún no lo tienes, <a href="https://tec.mx/es/exatec/solicita-tu-cuenta-de-acceso-al-portal-mitec">solicítalo aquí.</a></strong></p>
</div>

END:VEVENT
END:VCALENDAR