BEGIN:VCALENDAR
VERSION:2.0
PRODID:Evento - TEC
BEGIN:VEVENT
UID:97601
DTSTAMP:20260423T234745Z
DTSTART:20210421T210000Z
DTEND:20210421T223000Z
SUMMARY:El viaje del héroe | Conferencia con Mario Guerra
LOCATION:
DESCRIPTION:<p><span><span><span><span><span><span><span><span><span><span><span><span><span><span><span><span><span><span><span>Asiste a la&nbsp;<strong>conferencia sobre transformación y trascendencia personal</strong>. Impartida por&nbsp;Mario Guerra, psicólogo,&nbsp;<em>life &amp; business coach</em>&nbsp;y colaborador en medios como&nbsp;W Radio,&nbsp;Grupo Imagen, Canal Once del IPN,&nbsp;Radio Centro, Radiofórmula y TVC Networks, entre muchos otros.</span></span></span></span></span></span></span></span></span></span></span></span></span></span></span></span></span></span></span></p>

<p>&nbsp;</p>

<p><span><span><span>Regístrate en <a href="https://bit.ly/ElViajeDelHéroe">esta liga.</a></span></span></span></p>

<p>&nbsp;</p>

<p>&nbsp;</p>

<p>&nbsp;</p>

<h3>&nbsp;</h3>

END:VEVENT
END:VCALENDAR