BEGIN:VCALENDAR
VERSION:2.0
PRODID:Evento - TEC
BEGIN:VEVENT
UID:97551
DTSTAMP:20260423T234741Z
DTSTART:20210412T133000Z
DTEND:20210417T000000Z
SUMMARY:  Semana de Inclusión Financiera
LOCATION:
DESCRIPTION:<div>
<p><span>Evento virtual que se llevará a cabo entre el 12 y el 16 de abril, y que contará con diversos paneles, conferencias y ponencias sobre la cultura y la inclusión financiera en México. </span></p>
</div>

<div>
<p><span>&nbsp;</span></p>
</div>

<div>
<p><span>Este evento busca convertirse en un referente anual sobre temas de inclusión financiera, al tiempo que impulsa conversaciones sobre la importancia de mejorar la cultura financiera de las sociedades latinoamericanas y generar espacios de diálogo para lograr este objetivo.</span></p>
</div>

<div>
<p><span>&nbsp;</span></p>
</div>

<div>
<p><span>Regístrate aquí </span><span>➡️</span><span> <a href="https://sites.google.com/tec.mx/fair/inicio">https://sites.google.com/tec.mx/fair/inicio</a></span></p>
</div>

END:VEVENT
END:VCALENDAR