BEGIN:VCALENDAR
VERSION:2.0
PRODID:Evento - TEC
BEGIN:VEVENT
UID:96971
DTSTAMP:20260423T234743Z
DTSTART:20210325T000000Z
DTEND:20210325T020000Z
SUMMARY:Noche Ferrum | Inauguración Casa Tec 210 
LOCATION:
DESCRIPTION:<p><span>Inauguración de<strong> Casa Ferrum</strong>, primer premio del <a href="https://www.sorteostec.org/tradicional">210°&nbsp;Tradicional Sorteo Tec</a>, que por primera vez, será en formato digital por las redes de Sorteos Tec.&nbsp;</span></p>

<p><span>Se presentará <strong>Casa Ferrum</strong>, sus espacios, arquitecto y charla con invitados especiales que incluyen al <strong>Dr. David Garza</strong>, rector y presidente ejecutivo del Tec; <strong>Arq. Juan Miró</strong>; <strong>Farid Aouragh</strong>; y personas de la comunidad de San Pedro que apoyan el propósito de Sorteos Tec. &nbsp;</span></p>

END:VEVENT
END:VCALENDAR