BEGIN:VCALENDAR
VERSION:2.0
PRODID:Evento - TEC
BEGIN:VEVENT
UID:96341
DTSTAMP:20260424T030240Z
DTSTART:20210222T140000Z
DTEND:20210318T045959Z
SUMMARY:Inscripciones Borregos Esports Cup Office Depot 2021
LOCATION:
DESCRIPTION:<p>En este 2021 la <strong>Borregos Esports Cup&nbsp;Office Depot</strong>&nbsp;es un torneo nacional para estudiantes de preparatoria, profesional y posgrado del <strong>Tecnológico de Monterrey.</strong></p>

<p>En esta nueva edición, podrás participar con tu equipo de cinco integrantes con oportunidad de dos suplentes para competir en <em><strong>League of Legends</strong></em> o prepárate para combatir en equipos de tres en las arenas de <em><strong>Clash Royale.</strong></em></p>

<p>&nbsp;</p>

<p><strong>Consulta las convocatorias:</strong></p>

<p><a href="https://cdn-ggtech.s3-eu-west-3.amazonaws.com/uploads/Normativa/1614039958182_CONVOCATORIA%20LOL%20-%20Concurso%20Formato%20ESPORT%202021%20rog%2022022021.pdf">- League of Legends</a></p>

<p><a href="https://cdn-ggtech.s3-eu-west-3.amazonaws.com/uploads/Normativa/1614039823747_CONVOCATORIA%20CLASH%20ROYALE%20-%20Concurso%20Formato%20ESPORT%202021%20rog%2022022021.pdf">- Clash Royale</a></p>

<p>&nbsp;</p>

<p>Los equipos se enfrentarán al mejor de <strong>tres rondas </strong>y los <strong>cuatro mejores campus</strong> pasarán a la <strong>fase final </strong>donde se jugará a <strong>un mejor de cinco.</strong></p>

<p><strong>Inscripciones abiertas del 22 de febrero al 17 de marzo</strong> con los coordinadores de cada campus.&nbsp;</p>

<p>Este no es solo un torneo… es tu&nbsp;torneo.</p>

<p><strong>¿Estás listo?</strong></p>

<p>&nbsp;</p>

END:VEVENT
END:VCALENDAR