BEGIN:VCALENDAR
VERSION:2.0
PRODID:Evento - TEC
BEGIN:VEVENT
UID:95096
DTSTAMP:20260424T164914Z
DTSTART:20210215T180000Z
DTEND:20210220T000000Z
SUMMARY:Global Experience Virtual Fair 2021 
LOCATION:https://virtual.mx/tecglobal21/
DESCRIPTION:<p><span><span><span><span><span>El <a href="https://tec.mx/es">Tecnológico de Monterrey</a>&nbsp;te invita a&nbsp;la <strong>Global Experience Virtual Fair 202</strong>1, la feria anual de Programas Internacionales.&nbsp;</span></span></span><span>&nbsp;</span></span></span></p>

<p><span><span><span><span><span>Podrás conocer futuras opciones de internalización con <strong>más de 60 universidades</strong>, además de charlas para la planificar la experiencia y asesorías personalizadas.</span></span></span><span>&nbsp;</span></span></span></p>

<p><span><span><span><span><span>La feria será virtual,<strong> vía Webconferences,</strong>&nbsp;y estará disponible a toda la<strong> comunidad Tec </strong>de<strong> manera gratuita.</strong></span></span></span><strong><span>&nbsp;</span></strong></span></span></p>

<p><span><span><span><span><span>Si estás interesado, solo tienes que ingresar a la </span></span></span><span><a href="https://virtual.mx/tecglobal21/"><span><span><span>página</span></span></span></a></span><span><span><span> el <strong>lunes 15 de febrero</strong> desde las 8:00 horas&nbsp;con tu <strong>correo institucional </strong>y seguir los pasos para<strong> navegar en la plataforma.</strong></span></span></span><strong><span>&nbsp;</span></strong></span></span></p>

END:VEVENT
END:VCALENDAR