BEGIN:VCALENDAR
VERSION:2.0
PRODID:Evento - TEC
BEGIN:VEVENT
UID:93161
DTSTAMP:20260423T234743Z
DTSTART:20210224T170000Z
DTEND:20210226T230000Z
SUMMARY:51 Congreso de Investigación y Desarrollo
LOCATION:
DESCRIPTION:<p>Dentro del Congreso de Investigación se hará entrega del a la Investigación e Innovación Premio Rómulo Garza, los días 25, 25 y 26 de febrero.</p>

END:VEVENT
END:VCALENDAR