BEGIN:VCALENDAR
VERSION:2.0
PRODID:Evento - TEC
BEGIN:VEVENT
UID:91036
DTSTAMP:20260424T030243Z
DTSTART:20201118T153039Z
DTEND:20201205T045939Z
SUMMARY:Un Día Para Dar
LOCATION:
DESCRIPTION:<p><span><span><span><span><span><strong>#UnDíaParaDar </strong>es un movimiento mundial que celebra y fomenta la generosidad</span></span></span> <span><span><span>con el objetivo de construir una mejor sociedad a través de la filantropía. </span></span></span></span></span></p>

<p><span><span><span><span><span>Bajo este ideal, </span></span></span><span lang="ES"><span><span>y por tercer año consecutivo, </span></span></span><span><span><span>el <strong>Tec de Monterrey</strong> </span></span></span><span lang="ES"><span><span>se <strong>suma a&nbsp;</strong></span></span></span><strong><span><span><span>la campaña</span></span></span> <span><span><span>“</span></span></span><span lang="ES"><span><span>#</span></span></span><span><span><span>UnDíaParaDar</span></span></span><span lang="ES"><span><span>México</span></span></span><span><span><span>”</span></span></span></strong><span lang="ES"><span><span>, </span></span></span><span><span><span>que </span></span></span><span lang="ES"><span><span>tiene como </span></span></span><span><span><span>día oficial a nivel </span></span></span><span lang="ES"><span><span>global </span></span></span><span><span><span>el </span></span></span><span lang="ES"><span><span>próximo <strong>martes </strong></span></span></span><strong><span><span><span>1&nbsp;de diciembre</span></span></span></strong><strong><span lang="ES"><span><span>.</span></span></span></strong></span></span></p>

<p><span><span><span lang="ES"><span><span>P</span></span></span><span><span><span>articipar en actos de generosidad promueve el <strong>florecimiento humano</strong></span></span></span><span lang="ES"><span><span>, por ello, invitamos a todas las personas de la comunidad a que a se unan a este movimiento y <strong>elijan una causa que les inspire </strong>para contribuir al <strong>bienestar </strong>y <strong>desarrollo de nuestra sociedad</strong> <strong>y país</strong>.</span></span></span></span></span></p>

<p><span><span><span lang="ES"><span><span>Del</span></span></span><strong><span lang="ES"><span><span> 18 de noviembre al 4 de diciembre</span></span></span></strong><span lang="ES"><span><span>, el Tec de Monterrey, en conjunto con <strong>SorteosTec</strong>, <strong>TecStore</strong>, <strong>Fundación TecSalud</strong>, <strong>EXATEC</strong> y <strong>Tecmilenio</strong> participan en esta campaña en la que se promueven diferentes iniciativas a las que podemos apoyar.</span></span></span></span></span></p>

<p><span><span><span lang="ES"><span><span>¡Súmate a <strong>#UnDíaParaDar </strong>e<strong> </strong>inspira a más personas a unirse!</span></span></span></span></span></p>

<p>&nbsp;</p>

<p><span><span><strong><span lang="ES"><span><span>¿QUÉ CAUSA DESEAS APOYAR?</span></span></span></strong></span></span></p>

<p>&nbsp;</p>

<p><span><span><strong><span lang="ES"><span><span>Tecnológico de Monterrey</span></span></span></strong></span></span></p>

<p><span><span><span><span><span>Dona a las distintas becas y apoyos que ofrece el TEC a estudiantes destacados.</span></span></span></span></span></p>

<p><a href="https://donar.tec.mx/s/"><span><span><span lang="ES"><span>donar.tec.mx</span></span> </span></span></a></p>

<p>&nbsp;</p>

<p><span><span><strong><span><span><span>Sorteos Tec</span></span></span></strong></span></span></p>

<p><span><span><span><span><span>Con tu boleto apoyas para que más jóvenes tengan la oportunidad de estudiar.</span></span></span></span></span></p>

<p><a href="https://www.sorteostec.org/"><span><span><span><span><span>www.sorteostec.org</span></span></span></span></span></a></p>

<p>&nbsp;</p>

<p><span><span><strong><span><span><span>Tec</span></span></span></strong><strong><span lang="ES"><span><span>S</span></span></span></strong><strong><span><span><span>tore</span></span></span></strong></span></span></p>

<p><span><span><span><span><span>Al adquirir un producto con causa, un porcentaje de la venta se destina a Líderes del </span></span></span><span lang="ES"><span><span>M</span></span></span><span><span><span>añana.</span></span></span></span></span></p>

<p><a href="https://store.tec.mx/producto-con-causa/"><span><span><span><span><span><span>https://store.tec.mx/producto-con-causa/</span></span></span></span></span></span></a></p>

<p>&nbsp;</p>

<p><span><span><strong><span lang="ES"><span><span>Fundación TecSalud</span></span></span></strong></span></span></p>

<p><span><span><span lang="ES"><span><span>Dona y apoya a la atención médica de personas vulnerables ante el COVID-19.</span></span></span></span></span></p>

<p><a href="https://bit.ly/SaludanteCOVID">https://bit.ly/SaludanteCOVID</a></p>

<p>&nbsp;</p>

<p><span><span><strong><span><span><span>EXATEC x los Lí</span></span></span></strong><strong><span lang="ES"><span><span>deres del </span></span></span></strong><strong><span><span><span>M</span></span></span></strong><strong><span lang="ES"><span><span>añana</span></span></span></strong></span></span></p>

<p><span><span><span><span><span>Únete a la causa donando&nbsp;a Líderes del Mañana</span></span></span><span lang="ES"><span><span>.</span></span></span></span></span></p>

<p><a href="https://carreravirtual.tec.mx/s/detalleCampania?IdCausa=a3g3f000000PAuOAAW"><span><span><span><span>https://bit.ly/XTporLíderes</span></span></span></span></a></p>

<p>&nbsp;</p>

<oembed>https://players.brightcove.net/6057949402001/default_default/index.html?videoId=6211052219001</oembed>

<p>&nbsp;</p>

END:VEVENT
END:VCALENDAR