BEGIN:VCALENDAR
VERSION:2.0
PRODID:Evento - TEC
BEGIN:VEVENT
UID:90331
DTSTAMP:20260423T232356Z
DTSTART:20201120T233000Z
DTEND:20201121T020000Z
SUMMARY:75 Aniversario de Borregos 
LOCATION:
DESCRIPTION:<p>Historia, éxitos, pasión, legado, comunidad, compañerismo...</p>

<p><span>El <strong>programa académico-deportivo universitario más grande en el país</strong> celebra sus primeros 75 años y tú no puedes faltar.</span></p>

<p>Te invitamos a participar en la <strong>celebración del 75 Aniversario de Borregos</strong> este próximo <strong>20 de noviembre </strong>a<span>&nbsp;partir de las<strong> 6:00 PM,</strong> horario del centro de México.</span></p>

<p><span>Habrá Dance Battle, charades, y <strong>¡muchas sorpresas más!</strong></span></p>

<p><span>Acompaña a <strong>Teus</strong> y a todos sus amigos al c</span><span>onectarte al live streaming en <a href="https://www.facebook.com/BorregosTec/"><strong>Facebook/BorregosTec&nbsp;</strong></a></span></p>

<p>&nbsp;</p>

<p>&nbsp;</p>

END:VEVENT
END:VCALENDAR