BEGIN:VCALENDAR
VERSION:2.0
PRODID:Evento - TEC
BEGIN:VEVENT
UID:89576
DTSTAMP:20260423T232355Z
DTSTART:20201214T140000Z
DTEND:20201219T000000Z
SUMMARY:7º Congreso Internacional de Innovación Educativa
LOCATION:
DESCRIPTION:<p><strong>El 7º Congreso Internacional de Innovación Educativa</strong>&nbsp;es un espacio que te permitirá ser parte de las tendencias y prácticas que están revolucionando la educación en el mundo.</p>

<p>Con este evento, que tiene una tradición de ofrecer anualmente desde el 2006, el <a href="https://tec.mx/es">Tecnológico de Monterrey </a>busca fomentar y facilitar la experimentación e innovación.</p>

<p>Acércate&nbsp;a las mejores experiencias nacionales e internacionales, y conéctate con expertos.</p>

<p>También puedes mostrar&nbsp;lo que estás&nbsp;haciendo en materia de innovación educativa.</p>

<p>El Congreso se llevará a cabo del&nbsp;<strong>14 al 18 de diciembre del 2020</strong>, 100% en línea.</p>

<p>¡Súmate a esta experiencia de innovación educativa y participa en la construcción de la educación del futuro! Revisa los <strong><a href="https://ciie.itesm.mx/es/precios/">costos </a></strong>y <strong><a href="https://ciie.itesm.mx/es/registro/">regístrate aquí.</a></strong></p>

END:VEVENT
END:VCALENDAR