BEGIN:VCALENDAR
VERSION:2.0
PRODID:Evento - TEC
BEGIN:VEVENT
UID:88581
DTSTAMP:20260423T232352Z
DTSTART:20201029T000000Z
DTEND:20201029T013000Z
SUMMARY:FOOD LIFE, GOOD LIFE
LOCATION:
DESCRIPTION:<p><span><span><span><span><span><span><a href="http://www.tecsalud.mx/"><span><span><span><span><span><span><span><span>TecSalud</span></span></span></span></span></span></span></span></a><span><span><span><span><span><span><span><span>,&nbsp;Sistema de Salud del Tecnológico de Monterrey, invita a vivir una experiencia basada en los principios de </span></span></span></span></span></span></span></span><span><span><span><span><span><strong><span><span>bienestar, prevención </span></span></strong></span></span></span></span></span><span><span><span><span><span><span><span>y</span></span></span></span></span></span></span><span><span><span><span><span><strong><span><span> longevidad </span></span></strong></span></span></span></span></span><span><span><span><span><span><span><span><span>a través de una conferencia virtual (en vivo) que llevará a los participantes a adentrarse a una vida más saludable.&nbsp;</span></span></span></span></span></span></span></span></span></span></span></span></span></span></p>

<p><span><span><span><span><span><span><span><span><span><span><strong><em>LONGEVITY LIFESTYLE</em>&nbsp;</strong></span></span></span></span></span></span></span></span></span></span><span><span><span><span><span><span><span><span><span><span><span><span><span><span>es el concepto que transmitiremos en este evento, acerca de cómo optimizar tu mente, cuerpo y espíritu al máximo durante toda tu vida.</span></span></span></span></span></span></span></span></span></span></span></span></span></span></p>

<p><span><span><span><span><span><span><span><span><span><span><span><span><span>El evento será presentado por el </span></span></span></span></span></span></span></span><span><span><span><span><span><strong><span><span>Dr. Guillermo Torre, </span></span></strong></span></span></span></span></span><span><span><span><span><span><span><span><span>Cardiólogo Intervencionista y Rector de </span></span></span></span></span></span></span></span><span><span><span><span><span><span><span><span>TecSalud</span></span></span></span></span></span></span></span><span><span><span><span><span><span><span><span> y su invitado especial </span></span></span></span></span></span></span></span><span><span><span><span><span><strong><span><span>Ben </span></span></strong></span></span></span></span></span><span><span><span><span><span><strong><span><span>Greenfield</span></span></strong></span></span></span></span></span><span><span><span><span><span><span><span><span>.</span></span></span></span></span></span></span></span></span></span></span></span></span></p>

<p>&nbsp;</p>

<p><strong>BOLETOS EN:</strong></p>

<p><a href="https://foodlife-goodlife.boletia.com/">https://foodlife-goodlife.boletia.com/</a></p>

<p>&nbsp;</p>

END:VEVENT
END:VCALENDAR