BEGIN:VCALENDAR
VERSION:2.0
PRODID:Evento - TEC
BEGIN:VEVENT
UID:87626
DTSTAMP:20260423T201301Z
DTSTART:20201123T130000Z
DTEND:20201130T020000Z
SUMMARY:Borregos Esports Invitational
LOCATION:
DESCRIPTION:<p>Si eres estudiante de preparatoria, profesional o&nbsp;posgrado del <a href="https://tec.mx/es">Tecnológico de Monterrey</a> y te gusta jugar <strong>Clash Royale</strong>&nbsp;puedes entrar al&nbsp;torneo internacional de deportes electrónicos con participantes de la <strong><a href="https://apru.org/">Asociación de Universidades de la Cuenca del Pacífico (APRU)</a>.</strong></p>

<p>Del<strong> 23 al 29 de noviembre</strong> se llevará el<strong> Borregos Esports Invitational</strong>&nbsp;con&nbsp;participantes de universidades como UCLA, Universidad de Washington, Universidad de Keio, entre otras, además del Tec.</p>

<p>Habrá&nbsp;transmisiones en español e inglés por los canales de Borregos por si también quieres apoyar a tus compañeros borregos.</p>

<p>La&nbsp;<a href="https://apru.org/"><strong>APRU</strong></a>&nbsp;se estableció en 1997 y la conforman&nbsp;55 universidades líderes de<strong>&nbsp;18 países</strong>&nbsp;de la Cuenca del Pacífico, conocidas mundialmente por su excelencia académica y de investigación.&nbsp;</p>

<p>El&nbsp;<strong><a href="https://tec.mx/es">Tec de Monterrey&nbsp;</a>es una de las cuatro universidades latinoamericanas -<a href="https://apru.org/members/">y la única mexicana</a>-</strong>&nbsp;que forma parte de esta asociación.</p>

END:VEVENT
END:VCALENDAR