BEGIN:VCALENDAR
VERSION:2.0
PRODID:Evento - TEC
BEGIN:VEVENT
UID:87236
DTSTAMP:20260423T201304Z
DTSTART:20210224T130000Z
DTEND:20210227T020000Z
SUMMARY: 51 Congreso de Investigación del Tec de Monterrey
LOCATION:
DESCRIPTION:<p><span><span><span><span><span><span><span>El </span></span></span></span></span></span></span><strong>Congreso de Investigación y Desarrollo del Tecnológico de Monterrey</strong>&nbsp;es&nbsp;l<span><span><span><span><span><span><span>a reunión anual&nbsp;que congrega a todos los investigadores y alumnos dedicados a esta labor para compartir sus experiencias y trabajos de investigación. </span></span></span></span></span></span></span></p>

<p><span><span><span><span><span>Del <strong>24 al 26 de febrero&nbsp;del 2021 </strong>se ofrecerán conferencias magistrales, paneles especializados, exposiciones y talleres de relevancia para el gremio de la investigación en esta <strong>edición 51.</strong></span></span></span></span></span></p>

<p>Además, durante el Congreso, se llevarán a cabo la entrega del <strong>Premio a la Investigación e Innovación Rómulo Garza 2020.</strong></p>

<p>El Congreso de Investigación es multidisciplinario y se presentan las investigaciones desarrolladas por profesores y alumnos en:</p>

<ul>
	<li>Política Pública</li>
	<li>Arquitectura, Arte y Diseño</li>
	<li>Educación, Humanidades y Ciencias Sociales</li>
	<li>Medicina</li>
	<li>Mecatrónica</li>
	<li>Biotecnología</li>
	<li>Tecnologías de Información, Electrónica y Comunicaciones</li>
	<li>Tecnologías sustentables</li>
	<li>Negocios</li>
</ul>

<p><br />
<a href="https://congresodeinvestigacion.tec.mx/">Regístrate aquí.</a></p>

END:VEVENT
END:VCALENDAR