BEGIN:VCALENDAR
VERSION:2.0
PRODID:Evento - TEC
BEGIN:VEVENT
UID:85081
DTSTAMP:20260423T201257Z
DTSTART:20200821T182836Z
DTEND:20200908T182836Z
SUMMARY:Convocatoria abierta: Premio a la Investigación e Innovación Rómulo Garza 2020
LOCATION:
DESCRIPTION:<p>Estimadas(os) compañeras(os):&nbsp;</p>

<p>Los invitamos a participar en el&nbsp;<strong>Premio a la Investigación e Innovación Rómulo Garza 2020</strong>, el cual se compone del premio Insignia como la distinción principal y cinco reconocimientos: Artículos más citados, Libros publicados y Proyectos de investigación de alumnos de PrepaTec, Profesional y Posgrado.&nbsp;</p>

<p>Si eres profesor #Tec, ¡participa en nuestra convocatoria 2020! Revisa las bases y las diferentes categorías donde puedes aplicar en:<a href="https://premioromulogarza.tec.mx/">&nbsp;https://premioromulogarza.tec.mx&nbsp;</a></p>

<p>La investigación nos permite mejorar y explorar nuevas posibilidades en nuestras vidas. Por ello, queremos reconocer tu gran trabajo de investigación e innovación.&nbsp;</p>

<p>&nbsp;</p>

END:VEVENT
END:VCALENDAR