BEGIN:VCALENDAR
VERSION:2.0
PRODID:Evento - TEC
BEGIN:VEVENT
UID:78171
DTSTAMP:20260423T201301Z
DTSTART:20200420T160000Z
DTEND:20200530T163000Z
SUMMARY:Descubre tu sazón en vivo
LOCATION:
DESCRIPTION:<p><br />
<strong>HAZ ALGO DIFERENTE. APRENDE A COCINAR</strong></p>

<p><strong>Geraldina Derby</strong></p>

<p>Lunes, miércoles y viernes</p>

<p>De 13:00 hrs. a 13:30 hrs. tiempo del centro de México</p>

<p><strong>CONÉCTATE AQUÍ:</strong>&nbsp;<a href="https://itesm.zoom.us/j/7565151586">https://itesm.zoom.us/j/7565151586</a></p>

END:VEVENT
END:VCALENDAR