BEGIN:VCALENDAR
VERSION:2.0
PRODID:Evento - TEC
BEGIN:VEVENT
UID:74716
DTSTAMP:20260423T144505Z
DTSTART:20200301T130000Z
DTEND:20200301T170000Z
SUMMARY:Girl Talks | Fit Day
LOCATION:Centro Estudiantil del Tec de Monterrey campus Puebla
DESCRIPTION:<p>ENTRADA LIBRE<br />
(ven con tu amiga, hermana, prima, vecina)<br />
<br />
¡Empieza hoy!<br />
<br />
MASTER CLASS | Defensa personal<br />
<br />
??‍♀️ Cycling<br />
? Box<br />
??‍♀️ Yoga<br />
?‍♀️ Dance<br />
? GAP<br />
??‍⚕️Salud<br />
<br />
?Tec de Monterrey campus Puebla, Centro Estudiantil<br />
<br />
¡TE TENEMOS SORPESAS!?</p>

END:VEVENT
END:VCALENDAR