BEGIN:VCALENDAR
VERSION:2.0
PRODID:Evento - TEC
BEGIN:VEVENT
UID:74611
DTSTAMP:20260423T144502Z
DTSTART:20200224T210000Z
DTEND:20200224T230000Z
SUMMARY:Taller Testigo Activo
LOCATION:Carretera a Tapanatepec Km. 149 + 746 Col, Juan Crispín, 29020 Tuxtla Gutiérrez, Chis.
DESCRIPTION:<p>Capacítate y sé un Testigo Activo.</p>

<p>TQueremos: Formar Guardianes</p>

END:VEVENT
END:VCALENDAR