BEGIN:VCALENDAR
VERSION:2.0
PRODID:Evento - TEC
BEGIN:VEVENT
UID:74591
DTSTAMP:20260423T144504Z
DTSTART:20200228T000000Z
DTEND:20200228T200000Z
SUMMARY:Business Night / Rewelcome Party
LOCATION:
DESCRIPTION:<p><strong>Business Night</strong> (Bienvenida de la Escuela de Negocios)</p>

<p>Fecha: 27 de febrero, 2020.</p>

<p>Lugar: Gin &amp; Joe (Distrito V).</p>

<p>Hora: 7:00 - 9:30 PM</p>

<p>&nbsp;</p>

<p><strong>Rewelcome Party</strong> (Bienvenida de la Escuela de Ingeniería)</p>

<p>Fecha: 28 de febrero, 2020.</p>

<p>Lugar: Jardines de Profesional.&nbsp;</p>

<p>Hora: 1:00 - 3:00 PM</p>

END:VEVENT
END:VCALENDAR