BEGIN:VCALENDAR
VERSION:2.0
PRODID:Evento - TEC
BEGIN:VEVENT
UID:73946
DTSTAMP:20260423T144501Z
DTSTART:20200313T200000Z
DTEND:20200314T000000Z
SUMMARY:Prueba de Aptitud Académica
LOCATION:Av. Eugenio Garza Sada No. 1 C.P. 94500 Córdoba, Ver.
DESCRIPTION:<p>Estudia en el Tec de Monterrey, inicia tu proceso de admisión a la universidad #1 de México.</p>

<p>Presenta tu Prueba de Aptitud Académica el viernes 13 de marzo a las 15:00 horas en las instalaciones del campus Veracruz.</p>

<p>&nbsp;</p>

<p>Confirma al: 271 717 0505 o envía un Whastapp: 271 128 6264 | admisiones.ver@itesm.mx</p>

END:VEVENT
END:VCALENDAR