BEGIN:VCALENDAR
VERSION:2.0
PRODID:Evento - TEC
BEGIN:VEVENT
UID:73391
DTSTAMP:20260423T144504Z
DTSTART:20200221T000000Z
DTEND:20200221T020000Z
SUMMARY:Cómo apoyar la seguridad escolar desde casa
LOCATION:Paseo del Tecnológico 751 colonia Ampliación la Rosita CP 27250 Torreón, Coahuila.
DESCRIPTION:<p>&nbsp;</p>

<p>La <strong>PrepaTec en Laguna recibirá a Vidal Schmill,</strong> quien brindará la conferencia&nbsp; <strong>"Cómo apoyar la seguridad escolar desde casa". </strong>como parte de la Escuela para padres.</p>

<p>La cita es este jueves 20 de febrero en la Arena Borregos a las 19:00 horas.</p>

<p>&nbsp;</p>

END:VEVENT
END:VCALENDAR