BEGIN:VCALENDAR
VERSION:2.0
PRODID:Evento - TEC
BEGIN:VEVENT
UID:73386
DTSTAMP:20260423T144503Z
DTSTART:20200228T130000Z
DTEND:20200228T210000Z
SUMMARY:Torneo Anual de Golf EXATEC
LOCATION:Paseo del Campestre y Paseo de las Flores s/n, Residencial Campestre la Rosita, 27250 Torreón, Coah
DESCRIPTION:<p>Bienvenidos <strong>EXATEC y Amigos del Tec </strong>a la séptima edición del <strong>Torneo de Golf EXATEC&nbsp;Laguna.</strong></p>

<p><strong>La causa que apoya este torneo es el programa Líderes del Mañana que beca&nbsp;a destacados jóvenes&nbsp;laguneros</strong>, de escasos recursos, para que realicen sus estudios profesionales en el Tecnológico de Monterrey<strong> con un apoyo&nbsp;del 100 por ciento. </strong><br />
<br />
El torneo&nbsp;será en la modalidad a go-go en equipos de 4.</p>

<p>Disfruta de un ambiente de amigos, donde habrá trofeos a los primeros lugares y, para todos, la oportunidad de ganar grandes premios.&nbsp;<br />
<br />
<strong>Inscripciones en la Coordinación Deportiva del Campestre Torreón</strong>, presentando el handicap de cada participante del equipo.</p>

<p>&nbsp;</p>

END:VEVENT
END:VCALENDAR