BEGIN:VCALENDAR
VERSION:2.0
PRODID:Evento - TEC
BEGIN:VEVENT
UID:72961
DTSTAMP:20260423T144501Z
DTSTART:20200210T160000Z
DTEND:20200210T190000Z
SUMMARY:Taller de pelucas
LOCATION:Tecnológico de Monterrey en Chiapas. Carretera a Tapanatepec Km. 149+746, Col. Juan Crispín, Tuxtla Gutiérrez, Chiapas C. P. 29020.
DESCRIPTION:<p>En el marco del Día Mundial contra el Cáncer, te invitamos a participar en la Donación de cabello para elaborar pelucas para niñ@s con este padecimiento.</p>

<p>Requisitos:&nbsp;20 cm de largo mínimo, cabello teñido pero sin decolorar o cabello virgen (sin procesos químicos), puede ser cortado en el momento (sin corte estético) o traer la coleta embolsada con nombre, teléfono y fecha de corte. De 7 a 8 coletas hacen una peluca.</p>

END:VEVENT
END:VCALENDAR