BEGIN:VCALENDAR
VERSION:2.0
PRODID:Evento - TEC
BEGIN:VEVENT
UID:72261
DTSTAMP:20260423T091117Z
DTSTART:20200123T234500Z
DTEND:20200124T010000Z
SUMMARY:Sesión Informativa | Becas y Apoyos Educativos 
LOCATION:Paseo del Tecnológico número 751, colonia Ampliación La Rosita, CP. 27250. Torreón, Coahuila
DESCRIPTION:<p>Asiste a nuestra sesión informativa y conoce el proceso de postulación para las diferentes becas y apoyos educativos, así como las fechas para participar en los tryouts.</p>

<p>&nbsp;</p>

<p><strong>Preparatoria</strong></p>

<p>Whatsapp: 8711092467 | 8711091827</p>

<p>Correo: admisionprepa.lag@itesm.mx</p>

<p>Sitio web: <a href="https://tec.mx/es/prepatec">tec.mx/prepatec</a></p>

<p>&nbsp;</p>

<p><strong>Profesional</strong></p>

<p>Whatsapp: 8711092410 | 8711092130</p>

<p>Correo; admisiones.lag@itesm.mx</p>

<p>Sitio web: <a href="https://tec.mx/es/profesional">tec.mx/profesional</a></p>

<p>&nbsp;</p>

<p>&nbsp;</p>

END:VEVENT
END:VCALENDAR