BEGIN:VCALENDAR
VERSION:2.0
PRODID:Evento - TEC
BEGIN:VEVENT
UID:71256
DTSTAMP:20260423T091152Z
DTSTART:20200118T140000Z
DTEND:20200118T180000Z
SUMMARY:Prueba de Aptitud Académica 18 de enero
LOCATION:
DESCRIPTION:<p>Inicia tu proceso de admisión para el Tecnológico de Monterrey, presenta tu Prueba de Aptitud Académica el sábado 18 de enero a las 9:00 hrs.<br />
Asiste a los talleres de preparación del 13 al 17 de enero en las instalaciones del campus Veracruz.<br />
Informes: 271 717 0505<br />
WhatsApp: 271 128 6264</p>

END:VEVENT
END:VCALENDAR