BEGIN:VCALENDAR
VERSION:2.0
PRODID:Evento - TEC
BEGIN:VEVENT
UID:70181
DTSTAMP:20260423T132401Z
DTSTART:20191217T170000Z
DTEND:20191217T190000Z
SUMMARY:Ceremonia de Graduación 2019
LOCATION:
DESCRIPTION:<p>La <strong>Ceremonia de Graduación 2019</strong>, de los alumnos de la Escuela de Negocios y la Escuela de Ingeniería, se llevará a cabo el <strong>martes 17 de diciembre</strong>, a las 12:00 horas.&nbsp;</p>

<p>Previo a la ceremonia, los alumnos graduandos tendrán un desayuno en la sala Innovación, a partir de las 10:00 horas.</p>

END:VEVENT
END:VCALENDAR