BEGIN:VCALENDAR
VERSION:2.0
PRODID:Evento - TEC
BEGIN:VEVENT
UID:70106
DTSTAMP:20260423T223712Z
DTSTART:20191206T130000Z
DTEND:20191206T180000Z
SUMMARY:Congreso Bancario Universitario
LOCATION:Carretera a Tapanatepec Km. 149 + 746 Col. Juan Crispin C.P. 29020. Tuxtla Gutiérrez, Chiapas, México.
DESCRIPTION:<p>Participa en el Congreso Bancario Universitario, tendremos la presencia de la Asociación de Bancos de México, conferencistas&nbsp;y panelistas. ¡No te lo puedes perder!&nbsp;<strong>Regístrate:&nbsp;</strong><a href="https://bit.ly/2XBElli?fbclid=IwAR0IIZPGMw5hKV-UtzsS0j3mApcWpel5Czmgm4NnwfBBo1rCdxOuBOuyKrQ">https://bit.ly/2XBElli</a></p>

END:VEVENT
END:VCALENDAR