BEGIN:VCALENDAR
VERSION:2.0
PRODID:Evento - TEC
BEGIN:VEVENT
UID:70101
DTSTAMP:20260423T091147Z
DTSTART:20191214T140036Z
DTEND:20191214T180036Z
SUMMARY:Prueba de Aptitud Académica 14 de diciembre
LOCATION:Av. Eugenio Garza Sada No.1
DESCRIPTION:<p>Ven al Tec y descubre el Modelo Educativo TEC21.</p>

<p>Explora, enfoca y especialízate.</p>

<p>Sábado 14 de diciembre 14:00h</p>

<p>&nbsp;</p>

END:VEVENT
END:VCALENDAR