BEGIN:VCALENDAR
VERSION:2.0
PRODID:Evento - TEC
BEGIN:VEVENT
UID:69956
DTSTAMP:20260423T091142Z
DTSTART:20191206T000000Z
DTEND:20191206T010000Z
SUMMARY:Concierto Navideño
LOCATION:Gimnasio del campus
DESCRIPTION:<p>.Acompáñanos a una tarde amena con el Ensamble Musical del campus en el Concierto Navideño.</p>

END:VEVENT
END:VCALENDAR