BEGIN:VCALENDAR
VERSION:2.0
PRODID:Evento - TEC
BEGIN:VEVENT
UID:69626
DTSTAMP:20260423T180640Z
DTSTART:20191129T200000Z
DTEND:20191129T210000Z
SUMMARY:Ceremonia de Firma de Convenio Marco de Colaboración Tec – Ternium
LOCATION: Biblioteca, Piso 6, Sala Fábula
DESCRIPTION:<p><span>Ceremonia de Firma de Convenio Marco de Colaboración Tec – Ternium que se llevará a cabo el viernes 29 de noviembre de 2019 de 3pm a 4pm en Biblioteca, Piso 6, Sala Fábula.</span></p>

END:VEVENT
END:VCALENDAR