BEGIN:VCALENDAR
VERSION:2.0
PRODID:Evento - TEC
BEGIN:VEVENT
UID:69416
DTSTAMP:20260423T091137Z
DTSTART:20191217T160000Z
DTEND:20191217T213000Z
SUMMARY:Taller en Innovación Educativa en Ingeniería y Ciencias: Tecnologías para el Futuro del Aprendizaje
LOCATION:
DESCRIPTION:<p><span><span><span><span lang="ES-MX"><span>En el Taller en Innovación Educativa en Ingeniería y Ciencias: Tecnologías para el Futuro del Aprendizaje conocerás las experiencias de innovación educativa en el Tecnológico de Monterrey, en áreas como Efectividad en la enseñanza, Combinación de tecnologías/métodos para el aprendizaje, Apoyo al estudiante con tecnología, Realidad virtual y aumentada, Nuevos tipos de laboratorio, Desarrollo de competencias, entre otros. </span></span></span></span></span></p>

<p>&nbsp;</p>

<p><span><span><span><span lang="ES-MX">Martes 17 de Diciembre, 2019</span></span></span></span></p>

<p><span><span><span><span lang="ES-MX">11:00 a 16:30 hrs.</span></span></span></span></p>

<p><span><span><span><span lang="ES-MX">Campus Monterrey, Aulas 7, salones 301, 302 y 303</span></span></span></span></p>

<p>&nbsp;</p>

<p><a data-entity-type="file" data-entity-uuid="116fbb81-fc5c-46ed-8d35-5f42d42cd606" href="/sites/default/files/inline-files/Promoci%C3%B3n%20Taller%20Ingenier%C3%ADa.pdf">Promoci%C3%B3n%20Taller%20Ingenier%C3%ADa.pdf</a></p>

END:VEVENT
END:VCALENDAR