BEGIN:VCALENDAR
VERSION:2.0
PRODID:Evento - TEC
BEGIN:VEVENT
UID:69391
DTSTAMP:20260422T220911Z
DTSTART:20191119T230000Z
DTEND:20191124T170000Z
SUMMARY:Iluma Fest
LOCATION:
DESCRIPTION:<p>Iluma es un evento realizado por alumnos del Tecnológico de Monterrey en Puebla en el que la temática principal es la animación, doblaje y videojuegos, buscando que nuestros participantes vivan una experiencia educativa y divertida otorgando, tanto a los expositores como al público general, una grata pasantía en el evento. Tendremos conferencias, workshops, revisión de portafolios, concursos y mucho más.</p>

END:VEVENT
END:VCALENDAR