BEGIN:VCALENDAR
VERSION:2.0
PRODID:Evento - TEC
BEGIN:VEVENT
UID:69291
DTSTAMP:20260422T220912Z
DTSTART:20191127T230000Z
DTEND:20191128T010000Z
SUMMARY:ProjectING & Business Insight 2019
LOCATION:
DESCRIPTION:<p>En <strong>ProjectING</strong> se presentarán los proyectos finales de la <strong>Escuela de Ingeniería</strong>, en el auditorio del campus.</p>

<p>En <strong>Business Insight</strong>&nbsp;se presentarán los proyectos finales de la <strong>Escuela de Negocios</strong>, en Parque Centro.</p>

END:VEVENT
END:VCALENDAR