BEGIN:VCALENDAR
VERSION:2.0
PRODID:Evento - TEC
BEGIN:VEVENT
UID:69286
DTSTAMP:20260422T220914Z
DTSTART:20191127T223000Z
DTEND:20191128T010000Z
SUMMARY:Ensamble "The Best Broadway Show Ever"
LOCATION:Av. Pedro Pedro Coronel # 16 Col. Dependencias Federales (0.09 km)
98600 Guadalupe (Zacatecas)
DESCRIPTION:<p>Arte y Cultura del Tec de Monterrey campus Zacatecas presenta el Ensamble&nbsp;"The Best Broadway Show Ever", donde podrás disfrutar del talento de los alumnos de Prepatec Zacatecas y profesional.</p>

<p>¡Te esperamos!</p>

END:VEVENT
END:VCALENDAR