BEGIN:VCALENDAR
VERSION:2.0
PRODID:Evento - TEC
BEGIN:VEVENT
UID:69281
DTSTAMP:20260422T220910Z
DTSTART:20191130T140000Z
DTEND:20191130T190000Z
SUMMARY:Prueba de Aptitud Académica
LOCATION:Av. Eugenio Garza Sada No. 1 Córdoba, Ver.
DESCRIPTION:<p>Sé parte de la universidad #1 de México.</p>

<p>Inicia tu proceso de admisión para el Tec de Monterrey y presenta tu Prueba de Aptitud Académica. sábado 30 de noviembre a las 9:00 horas en las instalaciones del campus Veracruz.</p>

<p>Informes: 271 7170505 o en admisiones.ver@itesm.mx</p>

END:VEVENT
END:VCALENDAR