BEGIN:VCALENDAR
VERSION:2.0
PRODID:Evento - TEC
BEGIN:VEVENT
UID:69261
DTSTAMP:20260422T220913Z
DTSTART:20191120T213000Z
DTEND:20191121T010000Z
SUMMARY:3er Foro de Empresas Familiares
LOCATION:Carretera a Tapanatepec Km. 149 + 746 Col. Juan Crispin C.P. 29020. Tuxtla Gutiérrez, Chiapas, México.
DESCRIPTION:<p>Participa en el 3er Foro de Empresas Familiares, en donde nos acompañarán ponentes y especialistas en el mundo de los negocios de nuestra localidad. ¡No te lo puedes perder!&nbsp;<strong>Regístrate:&nbsp;<a href="https://bit.ly/2KlHe4g?fbclid=IwAR2-SWX97clXalahCquOKnlaUCEkmPCPYAdtA1F65sA06Kgs62L_8hSAjJI">https://bit.ly/2KlHe4g</a>&nbsp;</strong></p>

END:VEVENT
END:VCALENDAR