BEGIN:VCALENDAR
VERSION:2.0
PRODID:Evento - TEC
BEGIN:VEVENT
UID:69251
DTSTAMP:20260422T220911Z
DTSTART:20191120T220000Z
DTEND:20191121T010000Z
SUMMARY:Muestra de proyectos sociales
LOCATION:
DESCRIPTION:<p><strong>¡Ven y conoce agentes de cambio en acción!</strong></p>

<p>Presentación de los<strong> proyectos sosicales <em>A.su.lado</em></strong> de <strong>5to. semestre de PrepaTe</strong>c en colaboración con <strong>Fundación Pedro Zaragoza</strong> en apoyo a las&nbsp;colonias&nbsp;<strong>Lomas de Poleo</strong>, el&nbsp;<strong>Km 29&nbsp;</strong>y la&nbsp;<strong>Colonia Galeana</strong>&nbsp;de Ciudad Juárez</p>

END:VEVENT
END:VCALENDAR