BEGIN:VCALENDAR
VERSION:2.0
PRODID:Evento - TEC
BEGIN:VEVENT
UID:68551
DTSTAMP:20260422T220909Z
DTSTART:20191107T190000Z
DTEND:20200110T190000Z
SUMMARY:Oferta Inviernos 2020
LOCATION:
DESCRIPTION:<p>Esta la oferta académica para el Invierno 2020 del Campus Puebla.</p>

END:VEVENT
END:VCALENDAR