BEGIN:VCALENDAR
VERSION:2.0
PRODID:Evento - TEC
BEGIN:VEVENT
UID:66976
DTSTAMP:20260422T203254Z
DTSTART:20191024T220000Z
DTEND:20191025T000000Z
SUMMARY:Conferencia El Futuro de los Negocios
LOCATION:Av. Pedro Pedro Coronel # 16 Col. Dependencias Federales
Guadalupe (Zacatecas)
DESCRIPTION:<p>Conoce "El futuro de los Negocios" en México. Queremos que estés un paso adelante&nbsp;☑&nbsp;<br />
Asiste a la conferencia impartida por la decana Dra. María Elena Vázquez Lira del Tec de Monterrey&nbsp;?</p>

<p>?&nbsp;24 octubre de 2019<br />
⏰&nbsp;19:00 horas<br />
?&nbsp;Planta Baja, Edificio CCI</p>

<p><a href="https://business.facebook.com/hashtag/somostec?source=feed_text&amp;epa=HASHTAG&amp;__xts__%5B0%5D=68.ARASPh6ZJSlx__OA54TL19SeWAJpmAflirt620ODj3_zDRjp8cpbd8yWMj3Zi9Zp8rFEDh3_4tUEb2dz591WAXBPN15a4pyJKj3d1waus6Qz2HGioWP4WogmQsiB0iu_Rll6Ra6I8o7sPpgjMtBxbAcJZqkSeQ3OYA-UlrkCzM0Ad03C1ARd8gIkHLySe3pDzo36FTcqB20DwlIrF4UTvVC5kKJGcuuDgm6IwM0Dd_CIYEMS8JD_VKX3pSywxZnibCJ0VKt755J6MJRNYY7ZVLeEbSZeIFdmsg0mPawPlmdp0xoSzLak3Ghpi9vTU5CrL47fyswxmjClcG0va64ZcRZJyw&amp;__tn__=%2ANK-R">#SomosTec</a>&nbsp;<a href="https://business.facebook.com/hashtag/negociostec?source=feed_text&amp;epa=HASHTAG&amp;__xts__%5B0%5D=68.ARASPh6ZJSlx__OA54TL19SeWAJpmAflirt620ODj3_zDRjp8cpbd8yWMj3Zi9Zp8rFEDh3_4tUEb2dz591WAXBPN15a4pyJKj3d1waus6Qz2HGioWP4WogmQsiB0iu_Rll6Ra6I8o7sPpgjMtBxbAcJZqkSeQ3OYA-UlrkCzM0Ad03C1ARd8gIkHLySe3pDzo36FTcqB20DwlIrF4UTvVC5kKJGcuuDgm6IwM0Dd_CIYEMS8JD_VKX3pSywxZnibCJ0VKt755J6MJRNYY7ZVLeEbSZeIFdmsg0mPawPlmdp0xoSzLak3Ghpi9vTU5CrL47fyswxmjClcG0va64ZcRZJyw&amp;__tn__=%2ANK-R">#NegociosTEC</a></p>

END:VEVENT
END:VCALENDAR