BEGIN:VCALENDAR
VERSION:2.0
PRODID:Evento - TEC
BEGIN:VEVENT
UID:66656
DTSTAMP:20260423T011040Z
DTSTART:20191029T010000Z
DTEND:20191029T043000Z
SUMMARY:Food Life, Good Life
LOCATION:Auditorio de la Escuela de Gobierno y Transformación Pública del Tecnológico de Monterrey
DESCRIPTION:<p><strong>BOLETOS EN:</strong></p>

<p><a href="https://foodlife-goodlife.boletia.com/">https://foodlife-goodlife.boletia.com/</a></p>

<p><strong>Vive una experiencia innovadora</strong> basada en nuestros principios de <strong>bienestar, prevención y longevidad</strong>; a través de una exposición de diferentes sabores y texturas que te llevarán a adentrarte a una <strong>vida más saludable.</strong></p>

<p>Tendremos una <strong>experiencia culinaria</strong> ofrecida por un variedad de restaurantes mediante menús cuidadosamente seleccionados por TecSalud,<strong> actividades saludables y música en vivo.&nbsp;</strong></p>

<p>Este evento será presentado por el <strong>Dr. Guillermo Torre Amione y sus invitados, Dr. Christian Assad-Kottner y Dr. Chandra Choubey.</strong></p>

<p>El <strong>Dr. Christian&nbsp;Assad-Kottner</strong>, es cardiólogo intervencionista, <strong>Director de The CardioMetabolic Clinic, promotor del estilo de vida y alimentación basada en “real food”.</strong></p>

<p>El <strong>Dr. Chandra Choubey, es escritor, conferencista </strong>y Director Regional Sur y de la PrepaTec Puebla. Originario de la India, firme <strong>creyente del potencial de las personas y la inteligencia emocional.</strong></p>

<p>El <strong>Dr. Guillermo Torre Amione</strong>, es <strong>Rector de TecSalud, el sistema de salud del Tecnológico de Monterrey</strong>. Médico cardiólogo intervencionista.</p>

<p><em><strong>Entrada y registro a partir de las 7:30 p.m.</strong></em></p>

END:VEVENT
END:VCALENDAR