BEGIN:VCALENDAR
VERSION:2.0
PRODID:Evento - TEC
BEGIN:VEVENT
UID:65686
DTSTAMP:20260422T203253Z
DTSTART:20190926T213000Z
DTEND:20190926T233000Z
SUMMARY:Fuckup Nights
LOCATION:Área de CoWorking del Parque Tecnológico CIEN en campus León
DESCRIPTION:<p>&nbsp;</p>

<oembed>https://www.eventbrite.es/e/entradas-fuckup-night-edicion-73-72414233923</oembed>

<p>&nbsp;</p>

END:VEVENT
END:VCALENDAR