BEGIN:VCALENDAR
VERSION:2.0
PRODID:Evento - TEC
BEGIN:VEVENT
UID:60316
DTSTAMP:20260423T021636Z
DTSTART:20190617T170000Z
DTEND:20190617T180000Z
SUMMARY:Conferencia Jia Wei Chew profesora de la NTU en Singapur
LOCATION:
DESCRIPTION:<p>La profesora Jia Wei Chew de la Nanyang Technological University, Singapur (NTU), impartirá la conferencia: "Tecnología de lecho fluidizado, Tecnología de membrana", durante su visita al Tec de Monterrey, Campus Monterrey.</p>

<p>La catedrática es experta en Membranas y el Nexo: Agua-Energía y cuenta con un alto perfil de publicaciones en su haber.</p>

<p>Más información con el Dr. Roberto Parra (r.parra@tec.mx)</p>

END:VEVENT
END:VCALENDAR