BEGIN:VCALENDAR
VERSION:2.0
PRODID:Evento - TEC
BEGIN:VEVENT
UID:59781
DTSTAMP:20260423T021637Z
DTSTART:20190614T110000Z
DTEND:20190614T203000Z
SUMMARY:Transformando experiencias educativas digitales: Foro 2019
LOCATION:Centro de Congresos campus Monterrey.
DESCRIPTION:<p>¡Estamos celebrando&nbsp;30 años de educación digital!</p>

<p>En este foro conocerás los nuevos modelos, estrategias y procesos que están transformando la práctica docente.</p>

<p>La cita es en la Sala 3 del Centro de Congresos del campus Monterrey.</p>

<p>Más información:&nbsp;</p>

<oembed>https://innovacioneducativa.tec.mx/30ed/</oembed>

<p>&nbsp;</p>

END:VEVENT
END:VCALENDAR