BEGIN:VCALENDAR
VERSION:2.0
PRODID:Evento - TEC
BEGIN:VEVENT
UID:59066
DTSTAMP:20260423T021635Z
DTSTART:20190530T200000Z
DTEND:20190530T220000Z
SUMMARY:Sesión informativa de profesional
LOCATION:Sala de Relaciones Internacionales, Aulas 4515
DESCRIPTION:<p>Asiste a la sesión informativa para realizar el proceso de entrada a profesional el próximo jueves 30 de mayo de 2019.</p>

<p>Si conoces a alguien de tu familia o conocido ésta es su oportunidad de ingreso al Tecnológico de Monterrey campus Puebla.</p>

END:VEVENT
END:VCALENDAR