BEGIN:VCALENDAR
VERSION:2.0
PRODID:Evento - TEC
BEGIN:VEVENT
UID:58266
DTSTAMP:20260423T021637Z
DTSTART:20190509T170000Z
DTEND:20190731T230000Z
SUMMARY:Desempolva y dona tus libros
LOCATION:Tecnológico de Monterrey en Puebla, Vía Atlixcáyotl 5718, Reserva Territorial Atlixcáyotl, Puebla, Puebla. Aulas 4, Segundo Piso de Ludoteca. Biblioteca Sur.
DESCRIPTION:<p><strong>Desempolva y dona tus libros</strong></p>

<p>¡Dales una segunda vida! Trae tus libros a Departamento de Sentido Humano.</p>

END:VEVENT
END:VCALENDAR