BEGIN:VCALENDAR
VERSION:2.0
PRODID:Evento - TEC
BEGIN:VEVENT
UID:58261
DTSTAMP:20260423T021639Z
DTSTART:20190518T220000Z
DTEND:20190519T000000Z
SUMMARY:Magic Show
LOCATION:Auditorio del Parque Tecnológico (Aulas 4) del Tec de Monterrey en Puebla, Vía Atlixcáyotl 5718, Reserva Territorial Atlixcáyotl, Puebla, Puebla.
DESCRIPTION:<p>No te pierdas este show de magia de cerca con un formato único y personal. Venido desde España, el mago Josep Vidal les invita a disfrutar de la magia a la española como nunca antes se ha hecho en Puebla.&nbsp;</p>

<p>Tendrás la oportunidad de disfrutar de este evento único y además de&nbsp;ayudar en la recaudación de fondos para el grupo estudiantil internacional.</p>

END:VEVENT
END:VCALENDAR