BEGIN:VCALENDAR
VERSION:2.0
PRODID:Evento - TEC
BEGIN:VEVENT
UID:55991
DTSTAMP:20260423T021635Z
DTSTART:20190325T193538Z
DTEND:20190504T120000Z
SUMMARY:Prueba de Aptitud Académica
LOCATION:Vía Atlixcáyotl 5718, Reserva Territorial Atlixcáyotl, C.P. 72453 Puebla, Puebla.
DESCRIPTION:<p>Ven y realiza tu Prueba de Aptitud Académica este sábado 4 de mayo.</p>

<p>Libera tu potencial transformador.</p>

<p>Tecnológico de Monterrey campus Puebla.</p>

END:VEVENT
END:VCALENDAR