BEGIN:VCALENDAR
VERSION:2.0
PRODID:Evento - TEC
BEGIN:VEVENT
UID:55901
DTSTAMP:20260423T021638Z
DTSTART:20190325T223000Z
DTEND:20190326T000000Z
SUMMARY:¿Cómo Distribuimos el Agua? Impacto del cambio climático en la disponibilidad de los recursos hídricos
LOCATION:Auditorio de la Biblioteca del Tecnológico de Monterrey, Campus Monterrey.
DESCRIPTION:<p>La crisis del agua en el mundo amerita ser abordada de forma multidisciplinaria en busca de soluciones integrales que permitan asegurar el abastecimiento para las futuras generaciones; retos como el incremento poblacional y el crecimiento desmedido de las ciudades, así como el cambio climático, representan un gran desafío en la encomienda de llevar los servicios primarios a las comunidades y mantener los estándares de vida.</p>

<p>En este contexto, el&nbsp;<a href="https://tec.mx/es">Tecnológico de Monterrey</a>, a través del&nbsp;<a href="http://www.centrodelagua.org">Centro del Agua para América Latina y el Caribe</a>, y las sociedades de alumnos de las carreras de Ingeniería en Desarrollo Sustentable e Innovación y Desarrollo, así como el Programa Estudiantil de Sostenibilidad (PES) y Student Energy, llevarán a cabo el panel de expertos:&nbsp;<em>¿Cómo Distribuimos el Agua? Impacto del cambio climático en la gestión de los recursos hídricos</em>, a celebrarse el próximo&nbsp;<strong>25 de marzo, a las 17:30 horas en Auditorio de la Biblioteca del Campus Monterrey.</strong></p>

<oembed>https://livestream.com/TecDeMonterrey/ComoDistribuimoselAgua</oembed>

<p>&nbsp;</p>

END:VEVENT
END:VCALENDAR