BEGIN:VCALENDAR
VERSION:2.0
PRODID:Evento - TEC
BEGIN:VEVENT
UID:54981
DTSTAMP:20260422T203251Z
DTSTART:20190312T201638Z
DTEND:20190316T230000Z
SUMMARY:Agenda Semanal campus Puebla
LOCATION:
DESCRIPTION:<p>Consulta los eventos que las diferentes áreas tienen para ti y aprovecha al máximo la experiencia de ser parte de la Comunidad Tec campus Puebla.</p>

END:VEVENT
END:VCALENDAR